BEGIN:VCALENDAR
VERSION:2.0
PRODID:-//ChamberMaster//Event Calendar 2.0//EN
METHOD:PUBLISH
X-PUBLISHED-TTL:P3D
REFRESH-INTERVAL:P3D
CALSCALE:GREGORIAN
BEGIN:VEVENT
DTSTART:20250130T003000Z
DTEND:20250130T023000Z
X-MICROSOFT-CDO-ALLDAYEVENT:FALSE
SUMMARY:2025 Chamber Annual Meeting
DESCRIPTION:The Commerce City Chamber cordially invites you to the Annual Meeting of the Chamber on Wednesday\, January 29\, 2025\, from 5:30-7:30 p.m. at the South Adams County Water & Sanitation District Board Room\, 6595 E. 70th Ave. We will take a look back over the past year while also looking toward the future. Voting on open board positions will take place as well as the awarding of the Chamber's first Chamber Champion Award. Our Keynote speakers for the night will be David Lucas and Reba Drotar of the Friends of the Rocky Mountain Arsenal National Wildlife Refuge. Dinner will be served so RSVPs are required.
X-ALT-DESC;FMTTYPE=text/html:<span style="font-family: Arial\, Verdana\, Helvetica\, sans-serif\; font-size: 18px\; background-color: rgb(255\, 255\, 255)\;">The Commerce City Chamber cordially invites you to the Annual Meeting of the Chamber on Wednesday\, January 29\, 2025\, from 5:30-7:30 p.m. at the South Adams County Water &amp\; Sanitation District Board Room\, 6595 E. 70th Ave. We will take a look back over the past year while also looking toward the future. Voting on open board positions will take place as well as the awarding of the Chamber&#39\;s first Chamber Champion Award. Our Keynote speakers for the night will be David Lucas and Reba Drotar of the Friends of the Rocky Mountain Arsenal National Wildlife Refuge. Dinner will be served so RSVPs are required.</span>
LOCATION:South Adams County Water & Sanitation District Board Room 6595 E. 70th Ave.
UID:e.2915.2290
SEQUENCE:3
DTSTAMP:20260422T215312Z
URL:https://www.4cchamber.com/events/details/2025-chamber-annual-meeting-2290
END:VEVENT

END:VCALENDAR
