BEGIN:VCALENDAR
VERSION:2.0
PRODID:-//ChamberMaster//Event Calendar 2.0//EN
METHOD:PUBLISH
X-PUBLISHED-TTL:P3D
REFRESH-INTERVAL:P3D
CALSCALE:GREGORIAN
BEGIN:VEVENT
DTSTART:20240918T170000Z
DTEND:20240918T200000Z
X-MICROSOFT-CDO-ALLDAYEVENT:FALSE
SUMMARY:4Rivers Equipment Open House/Ribbon Cutting
DESCRIPTION:Come celebrate with the Chamber as we help our chamber member 4Rivers Equipment cut the ceremonial ribbon during their Open House/Ribbon Cutting Ceremony tomorrow\, Wednesday\, September 18 starting at 11 a.m. Enjoy lunch\, games\, prizes\, live demonstrations and the cutting of the ribbon at 1 p.m. Come have some fun and network with city officials\, chamber staff and other attendees. RSVP at https://4cchamber.com/events or call the chamber office at 720-864-1786. We hope to see you there!
X-ALT-DESC;FMTTYPE=text/html:<span style="font-family: Arial\, Verdana\, Helvetica\, sans-serif\; white-space-collapse: preserve\; background-color: rgb(255\, 255\, 255)\; font-size: 18px\;">Come celebrate with the Chamber as we help our chamber member 4Rivers Equipment cut the ceremonial ribbon during their Open House/Ribbon Cutting Ceremony tomorrow\, Wednesday\, September 18 starting at 11 a.m. Enjoy lunch\, games\, prizes\, live demonstrations and the cutting of the ribbon at 1 p.m. Come have some fun and network</span><span style="font-family: Arial\, Verdana\, Helvetica\, sans-serif\; white-space-collapse: preserve\; background-color: rgb(255\, 255\, 255)\; font-size: 18px\; color: rgb(5\, 5\, 5)\;"> with city officials\, chamber staff and other attendees. RSVP at https://4cchamber.com/events or call the chamber office at 720-864-1786. We hope to see you there!</span>
LOCATION:5055 E 72nd Avenue
UID:e.2915.2277
SEQUENCE:3
DTSTAMP:20260422T143620Z
URL:https://www.4cchamber.com/events/details/4rivers-equipment-open-house-ribbon-cutting-2277
END:VEVENT

END:VCALENDAR
