BEGIN:VCALENDAR
VERSION:2.0
PRODID:-//ChamberMaster//Event Calendar 2.0//EN
METHOD:PUBLISH
X-PUBLISHED-TTL:P3D
REFRESH-INTERVAL:P3D
CALSCALE:GREGORIAN
BEGIN:VEVENT
DTSTART:20240929T010000Z
DTEND:20240929T040000Z
X-MICROSOFT-CDO-ALLDAYEVENT:FALSE
SUMMARY:Almost Home Concert for a Cause
DESCRIPTION:Run\, don't walk to get your tickets to Concert for a Cause 2024\, featuring Those Crazy Nights!\n\n\n\n\n\nThose Crazy Nights features a stellar lineup of nationally touring professional musicians who brilliantly emulate the nostalgic sounds of Journey. Since their inception in 2018\, Those Crazy Nights have been selling out concert venues across their home state of Colorado and nationally with their supercharged renditions of Journey hits from the 70's and 80's such as "Don't Stop Believing"\, "Anyway You Want It"\, "Separate Ways"\, "Wheel in the Sky"\, "Lights"\, "Lovin' Touchin' Squeezin'"\, just to name a few.\n\n\n\n\n\nTicket Options:\n\n$25 general admission ticket (standing room only)\n\n$100 - 2 top table - includes admission for 2 and designated seating at a high-top table for 2\n\n$200 - 4 top table - includes admission for 4 and designated seating at a high-top table for 4\n\nPurchase tickets below.\n\nhttps://auctria.events/CFAC2024
X-ALT-DESC;FMTTYPE=text/html:<div>\n<div>Run\, don&#39\;t walk to get your tickets to Concert for a Cause 2024\, featuring Those Crazy Nights!</div>\n</div>\n\n<div>\n<div><br />\nThose Crazy Nights features a stellar lineup of nationally touring professional musicians who brilliantly emulate the nostalgic sounds of Journey. Since their inception in 2018\, Those Crazy Nights have been selling out concert venues across their home state of Colorado and nationally with their supercharged renditions of Journey hits from the 70&#39\;s and 80&#39\;s such as &quot\;Don&#39\;t Stop Believing&quot\;\, &quot\;Anyway You Want It&quot\;\, &quot\;Separate Ways&quot\;\, &quot\;Wheel in the Sky&quot\;\, &quot\;Lights&quot\;\, &quot\;Lovin&#39\; Touchin&#39\; Squeezin&#39\;&quot\;\, just to name a few.</div>\n</div>\n\n<div>\n<div><br />\nTicket Options:</div>\n\n<div>$25 general admission ticket (standing room only)</div>\n\n<div>$100 - 2 top table - includes admission for 2 and designated seating at a high-top table for 2</div>\n\n<div>$200 - 4 top table - includes admission for 4 and designated seating at a high-top table for 4</div>\n\n<div>Purchase tickets below.<br />\nhttps://auctria.events/CFAC2024</div>\n</div>\n
LOCATION:Armory Performing Arts Center 300 Strong St. Brighton\, CO
UID:e.2915.2266
SEQUENCE:3
DTSTAMP:20260422T142844Z
URL:https://www.4cchamber.com/events/details/almost-home-concert-for-a-cause-2266
END:VEVENT

END:VCALENDAR
