BEGIN:VCALENDAR
VERSION:2.0
PRODID:-//ChamberMaster//Event Calendar 2.0//EN
METHOD:PUBLISH
X-PUBLISHED-TTL:P3D
REFRESH-INTERVAL:P3D
CALSCALE:GREGORIAN
BEGIN:VEVENT
DTSTART:20230808T180000Z
DTEND:20230808T190000Z
X-MICROSOFT-CDO-ALLDAYEVENT:FALSE
SUMMARY:Animal Urgent Care Northeast Ribbon Cutting
DESCRIPTION:Come join us as we celebrate the Ribbon Cutting for Animal Urgent Care Northeast's newest location at 15401 E 120th Ave.
X-ALT-DESC;FMTTYPE=text/html:Come join us as we celebrate the Ribbon Cutting for Animal Urgent Care Northeast&#39\;s newest location at 15401 E 120th Ave.
LOCATION:Animal Urgent Care Northeast 15401 E 120th Ave.
UID:e.2915.1962
SEQUENCE:3
DTSTAMP:20260421T143008Z
URL:https://www.4cchamber.com/events/details/animal-urgent-care-northeast-ribbon-cutting-1962
END:VEVENT

END:VCALENDAR
