BEGIN:VCALENDAR
VERSION:2.0
PRODID:-//ChamberMaster//Event Calendar 2.0//EN
METHOD:PUBLISH
X-PUBLISHED-TTL:P3D
REFRESH-INTERVAL:P3D
CALSCALE:GREGORIAN
BEGIN:VEVENT
DTSTART:20241005T150000Z
DTEND:20241005T190000Z
X-MICROSOFT-CDO-ALLDAYEVENT:FALSE
SUMMARY:Chamber/3R Technology Solutions/Adams 14 Electronics Recycling Event
DESCRIPTION:Start gathering up your old\, unwanted electronics for this spring's Electronics Recycling Drop-Off Event Saturday\, Oct. 5 from 9 a.m. to 1 p.m. at Adams City High School's west parking lot. We take anything that plugs in or runs on batteries. Don't get nickled and dimed at other recycling events. All items at our event recycle for FREE except for televisions\, which will cost $30 each. Open to everyone in the Denver Metro Area. No reservations required. Thank you to 3R Technology Solutions and Adams 14 for co-sponsoring this event with the Chamber!
X-ALT-DESC;FMTTYPE=text/html:<span style="color: rgb(5\, 5\, 5)\; font-family: &quot\;Segoe UI Historic&quot\;\, &quot\;Segoe UI&quot\;\, Helvetica\, Arial\, sans-serif\; font-size: 15px\; white-space: pre-wrap\; background-color: rgb(255\, 255\, 255)\;">Start gathering up your old\, unwanted electronics for this spring&#39\;s Electronics Recycling Drop-Off Event Saturday\, Oct. 5 from 9 a.m. to 1 p.m. at Adams City High School&#39\;s west parking lot. We take anything that plugs in or runs on batteries. Don&#39\;t get nickled and dimed at other recycling events. All items at our event recycle for FREE except for televisions\, which will cost $30 each. Open to everyone in the Denver Metro Area. No reservations required. Thank you to 3R Technology Solutions and Adams 14 for co-sponsoring this event with the Chamber!</span>
LOCATION:Adams City High School West Parking Lot 7200 Quebec Parkway
UID:e.2915.2272
SEQUENCE:3
DTSTAMP:20260422T173629Z
URL:https://www.4cchamber.com/events/details/chamber-3r-technology-solutions-adams-14-electronics-recycling-event-2272
END:VEVENT

END:VCALENDAR
