BEGIN:VCALENDAR
VERSION:2.0
PRODID:-//ChamberMaster//Event Calendar 2.0//EN
METHOD:PUBLISH
X-PUBLISHED-TTL:P3D
REFRESH-INTERVAL:P3D
CALSCALE:GREGORIAN
BEGIN:VEVENT
DTSTART:20250116T184500Z
DTEND:20250116T200000Z
X-MICROSOFT-CDO-ALLDAYEVENT:FALSE
SUMMARY:Chamber Lunch Bunch @ Dion's
DESCRIPTION:Come network and connect with fellow Chamber members and guests. Buildf relationships as you share your latest information about your business as you find out what is happening with other local businesses\, all while enjoying lunch (on your own).
X-ALT-DESC;FMTTYPE=text/html:<span style="color: rgb(51\, 51\, 51)\; font-family: sans-serif\, Arial\, Verdana\, &quot\;Trebuchet MS&quot\;\; font-size: 13px\; background-color: rgb(255\, 255\, 255)\;">Come network and connect with fellow Chamber members and guests. Buildf relationships as you share your latest information about your business as you find out what is happening with other local businesses\, all while enjoying lunch (on your own).</span>
LOCATION:Dion's 15150 E. 104th Ave. (Chambers and 104th Avenue)
UID:e.2915.2289
SEQUENCE:3
DTSTAMP:20260422T215204Z
URL:https://www.4cchamber.com/events/details/chamber-lunch-bunch-dion-s-2289
END:VEVENT

END:VCALENDAR
