BEGIN:VCALENDAR
VERSION:2.0
PRODID:-//ChamberMaster//Event Calendar 2.0//EN
METHOD:PUBLISH
X-PUBLISHED-TTL:P3D
REFRESH-INTERVAL:P3D
CALSCALE:GREGORIAN
BEGIN:VEVENT
DTSTART:20250123T184500Z
DTEND:20250123T200000Z
X-MICROSOFT-CDO-ALLDAYEVENT:FALSE
SUMMARY:Chamber Lunch & Learn - Real Estate Projections 2025
DESCRIPTION:Come and network with fellow Chamber members\, share your latest information about your business as you find out what is happening with other local businesses\, all while enjoying lunch (on your own). We will have a special presentation by Chamber member Arlene Castro of iGo Realty on Real Estate Projections in 2025.
X-ALT-DESC;FMTTYPE=text/html:<span style="color: rgb(51\, 51\, 51)\; font-family: sans-serif\, Arial\, Verdana\, &quot\;Trebuchet MS&quot\;\; font-size: 13px\; background-color: rgb(255\, 255\, 255)\;">Come and network with fellow Chamber members\, share your latest information about your business as you find out what is happening with other local businesses\, all while enjoying lunch (on your own). We will have a special presentation by Chamber member Arlene Castro of iGo Realty on Real Estate Projections in 2025.</span>
LOCATION:Bison Grill at Buffalo Run Golf Course 15700 E. 112th Ave.
UID:e.2915.2288
SEQUENCE:3
DTSTAMP:20260422T215452Z
URL:https://www.4cchamber.com/events/details/chamber-lunch-learn-real-estate-projections-2025-2288
END:VEVENT

END:VCALENDAR
