BEGIN:VCALENDAR
VERSION:2.0
PRODID:-//ChamberMaster//Event Calendar 2.0//EN
METHOD:PUBLISH
X-PUBLISHED-TTL:P3D
REFRESH-INTERVAL:P3D
CALSCALE:GREGORIAN
BEGIN:VEVENT
DTSTART:20250108T143000Z
DTEND:20250108T153000Z
X-MICROSOFT-CDO-ALLDAYEVENT:FALSE
SUMMARY:Coffee With The Chamber @ Bison Grill @ Buffalo Run Golf Course
DESCRIPTION:Let us buy you a cup of coffee or tea before you head to work. Join Commerce City Chamber Executive Director Rene' Bullock at different coffee houses throughout our city every other month. Bring your suggestions\, concerns or let us know of your successes in business. Meet your fellow chamber members and guests too!
X-ALT-DESC;FMTTYPE=text/html:Let us buy you a cup of coffee or tea before you head to work. Join Commerce City Chamber Executive Director Rene&#39\; Bullock at different coffee houses throughout our city every other month. Bring your suggestions\, concerns or let us know of your successes in business. Meet your fellow chamber members and guests too!
LOCATION:Bison Grill @ Buffalo Run Golf Course 15700 E. 112th Ave.
UID:e.2915.2287
SEQUENCE:3
DTSTAMP:20260422T215506Z
URL:https://www.4cchamber.com/events/details/coffee-with-the-chamber-bison-grill-buffalo-run-golf-course-2287
END:VEVENT

END:VCALENDAR
