BEGIN:VCALENDAR
VERSION:2.0
PRODID:-//ChamberMaster//Event Calendar 2.0//EN
METHOD:PUBLISH
X-PUBLISHED-TTL:P3D
REFRESH-INTERVAL:P3D
CALSCALE:GREGORIAN
BEGIN:VEVENT
DTSTART:20250709T133000Z
DTEND:20250709T143000Z
X-MICROSOFT-CDO-ALLDAYEVENT:FALSE
SUMMARY:Coffee With The Chamber @ Greyhound Grounds Coffee House
DESCRIPTION:Come start your morning with us and get a FREE cup of coffee at our Coffee with the Chamber event at Greyhound Grounds Coffee House\, 6230 Glencoe St.\, on Wednesday\, July 9 at 7:30 a.m. We will be joined this month by South Adams County Fire Department's Fire Chief Bob Olme so bring your questions about the fire department while you network with other Chamber members and guests. Let us know what is happening at your business (challenges or accomplishments) while enjoying a free cup of coffee compliments of the Commerce City Chamber. Register today at 4cchamber.com/events or call 720-864-1786 to reserve your spot. See you there!
X-ALT-DESC;FMTTYPE=text/html:<span style="font-family: Arial\, Verdana\, Helvetica\, sans-serif\; font-size: 18px\; background-color: rgb(255\, 255\, 255)\;">Come start your morning with us and get a FREE cup of coffee at our Coffee with the Chamber event at Greyhound Grounds Coffee House\, 6230 Glencoe St.\, on Wednesday\, July 9 at 7:30 a.m. We will be joined this month by South Adams County Fire Department&#39\;s Fire Chief Bob Olme so bring your questions about the fire department while you network with other Chamber members and guests. Let us know what is happening at your business (challenges or accomplishments) while enjoying a free cup of coffee compliments of the Commerce City Chamber. Register today at&nbsp\;</span><a data-saferedirecturl="https://www.google.com/url?q=http://4cchamber.com/events&amp\;source=gmail&amp\;ust=1749732362012000&amp\;usg=AOvVaw0LEeZdi5e9oJIlC2WnrEmF" href="http://4cchamber.com/events" style="color: rgb(17\, 85\, 204)\; font-family: Arial\, Verdana\, Helvetica\, sans-serif\; font-size: 18px\; background-color: rgb(255\, 255\, 255)\;" target="_blank">4cchamber.com/events</a><span style="font-family: Arial\, Verdana\, Helvetica\, sans-serif\; font-size: 18px\; background-color: rgb(255\, 255\, 255)\;">&nbsp\;or call 720-864-1786 to reserve your spot. See you there!</span>
LOCATION:Greyhound Grounds Coffee House 6230 Glencoe St.
UID:e.2915.2319
SEQUENCE:3
DTSTAMP:20260423T071718Z
URL:https://www.4cchamber.com/events/details/coffee-with-the-chamber-greyhound-grounds-coffee-house-2319
END:VEVENT

END:VCALENDAR
