BEGIN:VCALENDAR
VERSION:2.0
PRODID:-//ChamberMaster//Event Calendar 2.0//EN
METHOD:PUBLISH
X-PUBLISHED-TTL:P3D
REFRESH-INTERVAL:P3D
CALSCALE:GREGORIAN
BEGIN:VEVENT
DTSTART:20230712T133000Z
DTEND:20230712T143000Z
X-MICROSOFT-CDO-ALLDAYEVENT:FALSE
SUMMARY:Coffee With The Chamber July 2023
DESCRIPTION:Come join Commerce City Chamber Executive Director Rene' Bullock for a chat over coffee. This new Chamber event will be monthly on the second Wednesday of each month. We will be touring the different coffee places in our city so look out for what location we will be at next. This is a great opportunity to network with other Chamber members!
X-ALT-DESC;FMTTYPE=text/html:Come join Commerce City Chamber Executive Director Rene&#39\; Bullock for a chat over coffee. This new Chamber event will be monthly on the second Wednesday of each month. We will be touring the different coffee places in our city so look out for what location we will be at next. This is a great opportunity to network with other Chamber members!
LOCATION:Butcher Block Cafe 4605 E. 74th Ave.
UID:e.2915.1959
SEQUENCE:3
DTSTAMP:20260421T125637Z
URL:https://www.4cchamber.com/events/details/coffee-with-the-chamber-july-2023-1959
END:VEVENT

END:VCALENDAR
