BEGIN:VCALENDAR
VERSION:2.0
PRODID:-//ChamberMaster//Event Calendar 2.0//EN
METHOD:PUBLISH
X-PUBLISHED-TTL:P3D
REFRESH-INTERVAL:P3D
CALSCALE:GREGORIAN
BEGIN:VEVENT
DTSTART:20250514T133000Z
DTEND:20250514T143000Z
X-MICROSOFT-CDO-ALLDAYEVENT:FALSE
SUMMARY:Coffee With The Chamber @ Reunion Coffee House
DESCRIPTION:Come join Commerce City Chamber Executive Director Rene' Bullock for a chat over coffee. This Chamber event is on the second Wednesday of every other month. We will be touring the different coffee places in our city so look out for what location we will be at next. This is a great opportunity to network with other Chamber members!
X-ALT-DESC;FMTTYPE=text/html:Come join Commerce City Chamber Executive Director Rene&#39\; Bullock for a chat over coffee. This Chamber event is on the second Wednesday of every other month. We will be touring the different coffee places in our city so look out for what location we will be at next. This is a great opportunity to network with other Chamber members!
LOCATION:Reunion Coffee House 10601 Reunion Parkway
UID:e.2915.2309
SEQUENCE:3
DTSTAMP:20260423T040828Z
URL:https://www.4cchamber.com/events/details/coffee-with-the-chamber-reunion-coffee-house-2309
END:VEVENT

END:VCALENDAR
