BEGIN:VCALENDAR
VERSION:2.0
PRODID:-//ChamberMaster//Event Calendar 2.0//EN
METHOD:PUBLISH
X-PUBLISHED-TTL:P3D
REFRESH-INTERVAL:P3D
CALSCALE:GREGORIAN
BEGIN:VEVENT
DTSTART:20241009T133000Z
DTEND:20241009T143000Z
X-MICROSOFT-CDO-ALLDAYEVENT:FALSE
SUMMARY:Coffee With The Chamber @ Tasty Donuts
DESCRIPTION:Come join Commerce City Chamber Executive Director Rene' Bullock for a chat over coffee. This new Chamber event will be bi-monthly on the second Wednesday of each month. We will be touring the different coffee places in our city so look out for what location we will be at next. This is a great opportunity to network with other Chamber members!
X-ALT-DESC;FMTTYPE=text/html:Come join Commerce City Chamber Executive Director Rene&#39\; Bullock for a chat over coffee. This new Chamber event will be bi-monthly on the second Wednesday of each month. We will be touring the different coffee places in our city so look out for what location we will be at next. This is a great opportunity to network with other Chamber members!
LOCATION:Tasty Donuts 6441 E. 72nd Place
UID:e.2915.2273
SEQUENCE:3
DTSTAMP:20260422T173929Z
URL:https://www.4cchamber.com/events/details/coffee-with-the-chamber-tasty-donuts-2273
END:VEVENT

END:VCALENDAR
