BEGIN:VCALENDAR
VERSION:2.0
PRODID:-//ChamberMaster//Event Calendar 2.0//EN
METHOD:PUBLISH
X-PUBLISHED-TTL:P3D
REFRESH-INTERVAL:P3D
CALSCALE:GREGORIAN
BEGIN:VEVENT
DTSTART:20230810T174500Z
DTEND:20230810T190000Z
X-MICROSOFT-CDO-ALLDAYEVENT:FALSE
SUMMARY:Commerce City Chamber Leads Group @ Reunion Coffee House
DESCRIPTION:Come and network with fellow Chamber members\, share your latest information about your business as you find out what is happening with other local businesses\, all while enjoying lunch (on your own).
X-ALT-DESC;FMTTYPE=text/html:<span style="color: rgb(51\, 51\, 51)\; font-family: sans-serif\, Arial\, Verdana\, &quot\;Trebuchet MS&quot\;\; font-size: 13px\; background-color: rgb(255\, 255\, 255)\;">Come and network with fellow Chamber members\, share your latest information about your business as you find out what is happening with other local businesses\, all while enjoying lunch (on your own).</span>
LOCATION:Reunion Coffee House 10601 Reunion Parkway
UID:e.2915.1969
SEQUENCE:3
DTSTAMP:20260421T144008Z
URL:https://www.4cchamber.com/events/details/commerce-city-chamber-leads-group-reunion-coffee-house-1969
END:VEVENT

END:VCALENDAR
