BEGIN:VCALENDAR
VERSION:2.0
PRODID:-//ChamberMaster//Event Calendar 2.0//EN
METHOD:PUBLISH
X-PUBLISHED-TTL:P3D
REFRESH-INTERVAL:P3D
CALSCALE:GREGORIAN
BEGIN:VEVENT
DTSTART:20230713T174500Z
DTEND:20230713T190000Z
X-MICROSOFT-CDO-ALLDAYEVENT:FALSE
SUMMARY:Commerce City Chamber Leads Group @ Rocky Mt. National Wildlife Refuge
DESCRIPTION:Let's meet at the Rocky Mountain Arsenal National Wildlife Refuge Visitor's Center and enjoy learning the history of the refuge while enjoying your lunch and networking with your fellow Chamber members and guests. Afterwards\, allow extra time for the scenic drive before heading back to the office. You won't want to miss checking out the deer\, eagles\, bison and so much more. Allow extra time for the scenic drive.
X-ALT-DESC;FMTTYPE=text/html:Let&#39\;s meet at the Rocky Mountain Arsenal National Wildlife Refuge Visitor&#39\;s Center and enjoy learning the history of the refuge while enjoying your lunch and networking with your fellow Chamber members and guests. Afterwards\, allow extra time for the scenic drive before heading back to the office. You won&#39\;t want to miss checking out the deer\, eagles\, bison and so much more. Allow extra time for the scenic drive.
LOCATION:Rocky Mountain Arsenal National Wildlife Refuge Visitor's Center 6550 Gateway Road
UID:e.2915.1960
SEQUENCE:3
DTSTAMP:20260421T144310Z
URL:https://www.4cchamber.com/events/details/commerce-city-chamber-leads-group-rocky-mt-national-wildlife-refuge-1960
END:VEVENT

END:VCALENDAR
