BEGIN:VCALENDAR
VERSION:2.0
PRODID:-//ChamberMaster//Event Calendar 2.0//EN
METHOD:PUBLISH
X-PUBLISHED-TTL:P3D
REFRESH-INTERVAL:P3D
CALSCALE:GREGORIAN
BEGIN:VEVENT
DTSTART:20240613T174500Z
DTEND:20240613T190000Z
X-MICROSOFT-CDO-ALLDAYEVENT:FALSE
SUMMARY:Commerce City Chamber Lunch & Leads @ Tasty Donuts
DESCRIPTION:Come and network with fellow Chamber members\, share your latest information about your business as you find out what is happening with other local businesses\, all while enjoying lunch (on your own).
X-ALT-DESC;FMTTYPE=text/html:<span style="color: rgb(51\, 51\, 51)\; font-family: sans-serif\, Arial\, Verdana\, &quot\;Trebuchet MS&quot\;\; font-size: 13px\; background-color: rgb(255\, 255\, 255)\;">Come and network with fellow Chamber members\, share your latest information about your business as you find out what is happening with other local businesses\, all while enjoying lunch (on your own).</span>
LOCATION:Tasty Donuts 6441 E 72nd Pl.
UID:e.2915.2254
SEQUENCE:3
DTSTAMP:20260422T094226Z
URL:https://www.4cchamber.com/events/details/commerce-city-chamber-lunch-leads-tasty-donuts-2254
END:VEVENT

END:VCALENDAR
