BEGIN:VCALENDAR
VERSION:2.0
PRODID:-//ChamberMaster//Event Calendar 2.0//EN
METHOD:PUBLISH
X-PUBLISHED-TTL:P3D
REFRESH-INTERVAL:P3D
CALSCALE:GREGORIAN
BEGIN:VEVENT
DTSTART:20230517T000000Z
DTEND:20230517T010000Z
X-MICROSOFT-CDO-ALLDAYEVENT:FALSE
SUMMARY:Commerce City Mayor and Council Election Information Session
DESCRIPTION:Commerce City will be holding elections this November for mayor\, two at-large seats and Wards II\, III and IV. This election will be critical to Commerce City's future and how Council and city government supports our local businesses and economy. The Commerce City Chamber of Commerce will hold an information session for prospective candidates that will include presentations on issues impacting Commerce City and resources for successful campaigns.
X-ALT-DESC;FMTTYPE=text/html:Commerce City will be holding elections this November for mayor\, two at-large seats and Wards II\, III and IV. This election will be critical to Commerce City&#39\;s future and how Council and city government supports our local businesses and economy. The Commerce City Chamber of Commerce will hold an information session for prospective candidates that will include presentations on issues impacting Commerce City and resources for successful campaigns.
LOCATION:South Adams County Fire Fighter Association Building 4711 E. 69th Ave.
UID:e.2915.1948
SEQUENCE:3
DTSTAMP:20260421T101207Z
URL:https://www.4cchamber.com/events/details/commerce-city-mayor-and-council-election-information-session-1948
END:VEVENT

END:VCALENDAR
