BEGIN:VCALENDAR
VERSION:2.0
PRODID:-//ChamberMaster//Event Calendar 2.0//EN
METHOD:PUBLISH
X-PUBLISHED-TTL:P3D
REFRESH-INTERVAL:P3D
CALSCALE:GREGORIAN
BEGIN:VEVENT
DTSTART:20241205T003000Z
DTEND:20241205T020000Z
X-MICROSOFT-CDO-ALLDAYEVENT:FALSE
SUMMARY:Jingle and Mingle Chamber Holiday Party
DESCRIPTION:Mark your calendars now to join the Commerce City Chamber as we celebrate the holidays on Wednesday\, December 4 from 5:30-7 p.m. at Salon Madrid\, 6495 Monaco St. Enjoy food\, drinks and mingle with your fellow Chamber members and guests. You might even win a door prize!!! Invite a friend or colleague and RSVP at 4cchamber.com/events or call 720-864-1786.
X-ALT-DESC;FMTTYPE=text/html:Mark your calendars now to join the Commerce City Chamber as we celebrate the holidays on Wednesday\, December 4 from 5:30-7 p.m. at Salon Madrid\, <span style="color: rgb(71\, 71\, 71)\; font-family: Roboto\, Arial\, sans-serif\; font-size: 14px\; background-color: rgb(255\, 255\, 255)\;">6495 Monaco St</span>. Enjoy food\, drinks and mingle with your fellow Chamber members and guests. You might even win a door prize!!! Invite a friend or colleague and RSVP at 4cchamber.com/events or call 720-864-1786.
LOCATION:Salon Madrid 6495 Monaco St.
UID:e.2915.2283
SEQUENCE:3
DTSTAMP:20260422T203738Z
URL:https://www.4cchamber.com/events/details/jingle-and-mingle-chamber-holiday-party-2283
END:VEVENT

END:VCALENDAR
