BEGIN:VCALENDAR
VERSION:2.0
PRODID:-//ChamberMaster//Event Calendar 2.0//EN
METHOD:PUBLISH
X-PUBLISHED-TTL:P3D
REFRESH-INTERVAL:P3D
CALSCALE:GREGORIAN
BEGIN:VEVENT
DTSTART:20230721T200000Z
DTEND:20230721T210000Z
X-MICROSOFT-CDO-ALLDAYEVENT:FALSE
SUMMARY:KB Homes Ribbon Cutting
DESCRIPTION:Come join us as we celebrate the Ribbon Cutting for KB Homes's newest location at 11041 Wheeling St.
X-ALT-DESC;FMTTYPE=text/html:Come join us as we celebrate the Ribbon Cutting for KB Homes&#39\;s newest location at&nbsp\;<span style="font-family: Arial\, Verdana\, Helvetica\, sans-serif\; font-size: 18px\; background-color: rgb(255\, 255\, 255)\;">11041 Wheeling St.</span>
LOCATION:KB Homes 11041 Wheeling St.
UID:e.2915.1963
SEQUENCE:3
DTSTAMP:20260421T142132Z
URL:https://www.4cchamber.com/events/details/kb-homes-ribbon-cutting-1963
END:VEVENT

END:VCALENDAR
