BEGIN:VCALENDAR
VERSION:2.0
PRODID:-//ChamberMaster//Event Calendar 2.0//EN
METHOD:PUBLISH
X-PUBLISHED-TTL:P3D
REFRESH-INTERVAL:P3D
CALSCALE:GREGORIAN
BEGIN:VEVENT
DTSTART:20250503T210000Z
DTEND:20250503T234500Z
X-MICROSOFT-CDO-ALLDAYEVENT:FALSE
SUMMARY:Kentucky Derby in Derby 2025
DESCRIPTION:The Commerce City Chamber wants you to join us Saturday\, May 3\, for the 4th Annual "Run For The Roses" Kentucky Derby in Derby signature event. There will be live race coverage\, signature Derby food and cocktails\, high fashion and hats\, and more! Dress in your best Derby attire and enter to win Best Dressed and Best Derby Hat contests. "Bet" on your favorite horse using Chamber "Derby Dollars" for a chance to win prizes! It's going to be a great time!!!
X-ALT-DESC;FMTTYPE=text/html:<span style="font-size:14px\;"><span style="font-family:arial\;"><span style="background-color: rgb(255\, 255\, 255)\;">The Commerce City Chamber wants you to join us Saturday\, May 3\, for the 4th Annual &quot\;Run For The Roses&quot\; Kentucky Derby in Derby signature event. There will be live race coverage\, signature Derby food and cocktails\, high fashion and hats\, and more! Dress in your best Derby attire and enter to win Best Dressed and Best Derby Hat contests. &quot\;Bet&quot\; on your favorite horse using Chamber &quot\;Derby Dollars&quot\; for a chance to win prizes! It&#39\;s going to be a great time!!!</span></span></span>
LOCATION:KeyBank 6565 E. 73rd Ave.
UID:e.2915.2297
SEQUENCE:3
DTSTAMP:20260423T060514Z
URL:https://www.4cchamber.com/events/details/kentucky-derby-in-derby-2025-2297
END:VEVENT

END:VCALENDAR
