BEGIN:VCALENDAR
VERSION:2.0
PRODID:-//ChamberMaster//Event Calendar 2.0//EN
METHOD:PUBLISH
X-PUBLISHED-TTL:P3D
REFRESH-INTERVAL:P3D
CALSCALE:GREGORIAN
BEGIN:VEVENT
DTSTART:20250425T150000Z
DTEND:20250425T190000Z
X-MICROSOFT-CDO-ALLDAYEVENT:FALSE
SUMMARY:MyC3 Day of Service
DESCRIPTION:Mark your calendars! The MyC3 Day of Service is happening on Friday\, April 25\, from 9 AM - 1 PM\, and we need our Chamber to be part of this impactful day!\n\n \n\nThis is a great opportunity for Commerce City Chamber of Commerce to join city staff\, business owners\, and community volunteers in showing our pride and commitment to service by removing litter and debris from 15 key roadways and corridors throughout the city.\n\n \n\nBy participating\, we're not just helping clean up Commerce City but we are taking pride in our city\, strengthening our community\, and demonstrating our dedication to a cleaner\, brighter future!\n\n \n\n\nEvent Details:\n\n  When: Friday\, April 25\, 2025 | 9:00 AM - 1:00 PM\n\n  Where: Throughout Commerce City (key locations to be assigned) \n\n  Meet up location: Eagle Pointe Recreation Center | 6060 Parkway Dr\, Commerce City\, CO 80022\n\n \n\nIf you plan to attend\, please register at 4cchamber.com/events so we can coordinate as a Chamber team!
X-ALT-DESC;FMTTYPE=text/html:<div style="color: rgb(34\, 34\, 34)\; font-family: Arial\, Helvetica\, sans-serif\; font-size: small\; background-color: rgb(255\, 255\, 255)\;">Mark your calendars!&nbsp\;<strong>The MyC3 Day of Service</strong>&nbsp\;is happening on&nbsp\;<strong>Friday\, April 25\, from 9 AM - 1 PM\,</strong>&nbsp\;and we need our Chamber to be part of this impactful day!</div>\n\n<div style="color: rgb(34\, 34\, 34)\; font-family: Arial\, Helvetica\, sans-serif\; font-size: small\; background-color: rgb(255\, 255\, 255)\;">&nbsp\;</div>\n\n<div style="color: rgb(34\, 34\, 34)\; font-family: Arial\, Helvetica\, sans-serif\; font-size: small\; background-color: rgb(255\, 255\, 255)\;">This is a great opportunity for Commerce City Chamber of Commerce&nbsp\;to join city staff\, business owners\, and community volunteers in showing our pride and commitment to service by removing litter and debris from 15 key roadways and corridors throughout the city.</div>\n\n<div style="color: rgb(34\, 34\, 34)\; font-family: Arial\, Helvetica\, sans-serif\; font-size: small\; background-color: rgb(255\, 255\, 255)\;">&nbsp\;</div>\n\n<div style="color: rgb(34\, 34\, 34)\; font-family: Arial\, Helvetica\, sans-serif\; font-size: small\; background-color: rgb(255\, 255\, 255)\;">By participating\, we&rsquo\;re not just helping clean up Commerce City but we are taking pride in our city\, strengthening our community\, and demonstrating our dedication to a cleaner\, brighter future!</div>\n\n<div style="color: rgb(34\, 34\, 34)\; font-family: Arial\, Helvetica\, sans-serif\; font-size: small\; background-color: rgb(255\, 255\, 255)\;">&nbsp\;</div>\n\n<div style="color: rgb(34\, 34\, 34)\; font-family: Arial\, Helvetica\, sans-serif\; font-size: small\; background-color: rgb(255\, 255\, 255)\;">\n<div><strong>Event Details:</strong><br />\n&bull\; When: Friday\, April 25\, 2025 | 9:00 AM - 1:00 PM<br />\n&bull\; Where: Throughout Commerce City (key locations to be assigned)&nbsp\;</div>\n\n<div>&bull\;&nbsp\;Meet up location: Eagle Pointe Recreation Center | 6060 Parkway Dr\, Commerce City\, CO 80022</div>\n\n<div>&nbsp\;</div>\n\n<div>If you plan to attend\, please register at 4cchamber.com/events so we can coordinate as a Chamber&nbsp\;team!</div>\n</div>\n
LOCATION:Meet at Eagle Pointe Recreation Center 6060 Parkway Dr.
UID:e.2915.2306
SEQUENCE:3
DTSTAMP:20260423T023227Z
URL:https://www.4cchamber.com/events/details/myc3-day-of-service-2306
END:VEVENT

END:VCALENDAR
