BEGIN:VCALENDAR
VERSION:2.0
PRODID:-//ChamberMaster//Event Calendar 2.0//EN
METHOD:PUBLISH
X-PUBLISHED-TTL:P3D
REFRESH-INTERVAL:P3D
CALSCALE:GREGORIAN
BEGIN:VEVENT
DTSTART:20241017T174500Z
DTEND:20241017T190000Z
X-MICROSOFT-CDO-ALLDAYEVENT:FALSE
SUMMARY:Victim to Victor in Marketing Chamber Lunch & Learn
DESCRIPTION:Struggling to make sense of your marketing strategy? It's time to turn confusion into clarity with James Rowe from FocalPoint303 at our exclusive Victim to Victor in Marketing Lunch & Learn! This event is designed specifically for small business owners ready to unlock the secrets of effective marketing. FocalPoint303 has proven business coaching strategies will help you cut through the noise and focus on what matters -- making your marketing efforts work for your business. This is your chance to learn how business coaching from FocalPoint303 can bring clarity and focus to your business including your marketing strategy\, helping you turn challenges into opportunities. Walk away with actionable insights and a clear plan to take your marketing from victim to victor!
X-ALT-DESC;FMTTYPE=text/html:Struggling to make sense of your marketing strategy? It&#39\;s time to turn confusion into clarity with James Rowe from FocalPoint303 at our exclusive Victim to Victor in Marketing Lunch &amp\; Learn! This event is designed specifically for small business owners ready to unlock the secrets of effective marketing. FocalPoint303 has proven business coaching strategies will help you cut through the noise and focus on what matters -- making your marketing efforts work for your business. This is your chance to learn how business coaching from FocalPoint303 can bring clarity and focus to your business including your marketing strategy\, helping you turn challenges into opportunities. Walk away with actionable insights and a clear plan to take your marketing from victim to victor!
LOCATION:Bison Grill at Buffalo Run Golf Course 15700 E 112th Av
UID:e.2915.2279
SEQUENCE:3
DTSTAMP:20260422T174322Z
URL:https://www.4cchamber.com/events/details/victim-to-victor-in-marketing-chamber-lunch-learn-2279
END:VEVENT

END:VCALENDAR
