BEGIN:VCALENDAR
VERSION:2.0
PRODID:-//ChamberMaster//Event Calendar 2.0//EN
METHOD:PUBLISH
X-PUBLISHED-TTL:P3D
REFRESH-INTERVAL:P3D
CALSCALE:GREGORIAN
BEGIN:VEVENT
DTSTART:20240808T220000Z
DTEND:20240808T233000Z
X-MICROSOFT-CDO-ALLDAYEVENT:FALSE
SUMMARY:Woodspring Suites Grand Opening/Ribbon Cutting
DESCRIPTION:Come help us celebrate the grand opening and ribbon cutting ceremony for Commerce City's newest hotel\, Woodspring Suites\, that offers extended stays. Grand openings and ribbon cuttings are a great way to network informally with city and chamber staff and support your fellow chamber member.
X-ALT-DESC;FMTTYPE=text/html:Come help us celebrate the grand opening and ribbon cutting ceremony for Commerce City&#39\;s newest hotel\, Woodspring Suites\, that offers extended stays. Grand openings and ribbon cuttings are a great way to network informally with city and chamber staff and support your fellow chamber member.
LOCATION:Woodspring Suites 4902 E. 63rd Ave.
UID:e.2915.2265
SEQUENCE:3
DTSTAMP:20260422T125242Z
URL:https://www.4cchamber.com/events/details/woodspring-suites-grand-opening-ribbon-cutting-2265
END:VEVENT

END:VCALENDAR
